View In:
ArcGIS JavaScript
ArcGIS Online Map Viewer
ArcGIS Earth
ArcMap
ArcGIS Explorer
ArcGIS Pro
View Footprint In:
ArcGIS Online Map Viewer
Service Description: Symbolika pre SVM50.
- symbolika nie je vytvorená podľa mapového kľúča pre tvorbu ZM50 a slúži len pre orientačné zobrazenie dát SVM50
- symbolika nevyužíva všetky triedy SVM50
Map Name: Layers
Legend
All Layers and Tables
Layers:
Description:
Copyright Text: © 2000-2003 ÚGKK SR, č.035/001004 - AG, SVM50
Spatial Reference:
102067
(5514)
Single Fused Map Cache: true
Tile Info:
- Height: 256
- Width: 256
- DPI: 96
-
Levels of Detail: 14
-
Level ID: 0
[ Start Tile, End Tile ]
- Resolution: 1219.1574880725075
- Scale: 4607830.109319803
-
Level ID: 1
[ Start Tile, End Tile ]
- Resolution: 609.5787440363933
- Scale: 2303915.0546604292
-
Level ID: 2
[ Start Tile, End Tile ]
- Resolution: 304.78937760035757
- Scale: 1151957.5484281033
-
Level ID: 3
[ Start Tile, End Tile ]
- Resolution: 152.3946860092379
- Scale: 575978.7636656348
-
Level ID: 4
[ Start Tile, End Tile ]
- Resolution: 76.19734300433984
- Scale: 287989.3818317625
-
Level ID: 5
[ Start Tile, End Tile ]
- Resolution: 38.09874686510933
- Scale: 143994.97575161798
-
Level ID: 6
[ Start Tile, End Tile ]
- Resolution: 19.04933575108496
- Scale: 71997.34545794062
-
Level ID: 7
[ Start Tile, End Tile ]
- Resolution: 9.524667875682042
- Scale: 35998.67272949779
-
Level ID: 8
[ Start Tile, End Tile ]
- Resolution: 4.762333937841021
- Scale: 17999.336364748895
-
Level ID: 9
[ Start Tile, End Tile ]
- Resolution: 2.3811669690600716
- Scale: 8999.668182901922
-
Level ID: 10
[ Start Tile, End Tile ]
- Resolution: 1.1905834842509133
- Scale: 4499.834090396012
-
Level ID: 11
[ Start Tile, End Tile ]
- Resolution: 0.5952917422650179
- Scale: 2249.9170457254804
-
Level ID: 12
[ Start Tile, End Tile ]
- Resolution: 0.29764587113250895
- Scale: 1124.9585228627402
-
Level ID: 13
[ Start Tile, End Tile ]
- Resolution: 0.14882293556625448
- Scale: 562.4792614313701
- Format: JPEG
- Compression Quality: 100.0
- Origin: X: -3.36998E7
Y: 3.36998E7
- Spatial Reference: 102067
(5514)
Initial Extent:
XMin: -1222725.6263967415
YMin: -1490168.4710750002
XMax: 468234.0507469245
YMax: -596571.8937226563
Spatial Reference: 102067
(5514)
Full Extent:
XMin: -1640847.51502836
YMin: -1969913.63982728
XMax: 886355.939378545
YMax: -496761.493522984
Spatial Reference: 102067
(5514)
Units: esriMeters
Supported Image Format Types: PNG32,PNG24,PNG,JPG,DIB,TIFF,EMF,PS,PDF,GIF,SVG,SVGZ,BMP
Document Info:
Title: SVM50
Author: ArcGEO
Comments: Symbolika pre SVM50.
- symbolika nie je vytvorená podľa mapového kľúča pre tvorbu ZM50 a slúži len pre orientačné zobrazenie dát SVM50
- symbolika nevyužíva všetky triedy SVM50
Subject:
Category:
Keywords:
AntialiasingMode: None
TextAntialiasingMode: Force
Supports Dynamic Layers: false
MaxRecordCount: 10000
MaxImageHeight: 4096
MaxImageWidth: 4096
Supported Query Formats: JSON, AMF, geoJSON
Min Scale: 4607830.109319803
Max Scale: 35998.67272949779
Supports Datum Transformation: true
Child Resources:
Info
Supported Operations:
Export Map
Identify
QueryDomains
Find
Return Updates