{
 "currentVersion": 10.7,
 "serviceDescription": "IMA2000 Slovensko. Ortofotomozaika v nepravých farbách zo snímok satelitu LANDSAT 7 ETM+ (Enhancement Thematic Mapper). Snímky pochádzajú z roku 2001 (± rok). Mozaika bola vytvorená pre potreby aktualizácie krajinnej pokrývky CORINE 2000.\n 
 Bližšie informácie na: 
\nhttp://corine.sazp.sk<\/a> 
\nhttps://rpi.gov.sk/client/map/detail/?rid=https://data.gov.sk/set/rpi/gmd/00626031/4E34D8FA16B66BFFE0530110000A3369IMA2000<\/a>",
 "mapName": "Layers",
 "description": "",
 "copyrightText": "",
 "supportsDynamicLayers": false,
 "layers": [
  {
   "id": 0,
   "name": "Ortofotomozaika zo satelitu LANDSAT 7 ETM+",
   "parentLayerId": -1,
   "defaultVisibility": true,
   "subLayerIds": null,
   "minScale": 0,
   "maxScale": 0,
   "type": "Raster Layer"
  }
 ],
 "tables": [],
 "spatialReference": {
  "wkid": 102067,
  "latestWkid": 5514
 },
 "singleFusedMapCache": true,
 "tileInfo": {
  "rows": 256,
  "cols": 256,
  "dpi": 96,
  "format": "PNG24",
  "compressionQuality": 0,
  "origin": {
   "x": -33699800,
   "y": 33699800
  },
  "spatialReference": {
   "wkid": 102067,
   "latestWkid": 5514
  },
  "lods": [
   {
    "level": 0,
    "resolution": 1219.155040158036,
    "scale": 4607820.8573781
   },
   {
    "level": 1,
    "resolution": 609.5775200791583,
    "scale": 2303910.42868958
   },
   {
    "level": 2,
    "resolution": 304.7887656217298,
    "scale": 1151955.23544264
   },
   {
    "level": 3,
    "resolution": 152.39438001992926,
    "scale": 575977.607172923
   },
   {
    "level": 4,
    "resolution": 76.19719000968561,
    "scale": 287988.803585407
   },
   {
    "level": 5,
    "resolution": 38.09867036763082,
    "scale": 143994.686627868
   },
   {
    "level": 6,
    "resolution": 19.049297502421393,
    "scale": 71997.2008963517
   },
   {
    "level": 7,
    "resolution": 9.524648751350224,
    "scale": 35998.6004487032
   },
   {
    "level": 8,
    "resolution": 4.762324375675112,
    "scale": 17999.3002243516
   },
   {
    "level": 9,
    "resolution": 2.3811621879771243,
    "scale": 8999.6501127033
   },
   {
    "level": 10,
    "resolution": 1.1905810937094368,
    "scale": 4499.82505529669
   },
   {
    "level": 11,
    "resolution": 0.5952905469942824,
    "scale": 2249.91252817583
   },
   {
    "level": 12,
    "resolution": 0.2976452734971399,
    "scale": 1124.95626408791
   }
  ]
 },
 "initialExtent": {
  "xmin": -688929.5912331969,
  "ymin": -1288303.4030779272,
  "xmax": -67818.97401196248,
  "ymax": -1031524.76452065,
  "spatialReference": {
   "wkid": 102067,
   "latestWkid": 5514
  }
 },
 "fullExtent": {
  "xmin": -591826.0416997136,
  "ymin": -1335271.426818042,
  "xmax": -164926.04169971356,
  "ymax": -1132196.426818042,
  "spatialReference": {
   "wkid": 102067,
   "latestWkid": 5514
  }
 },
 "minScale": 4607820.8573781,
 "maxScale": 1124.95626408791,
 "units": "esriMeters",
 "supportedImageFormatTypes": "PNG32,PNG24,PNG,JPG,DIB,TIFF,EMF,PS,PDF,GIF,SVG,SVGZ,BMP",
 "documentInfo": {
  "Title": "",
  "Author": "",
  "Comments": "",
  "Subject": "",
  "Category": "",
  "AntialiasingMode": "None",
  "TextAntialiasingMode": "None",
  "Keywords": "-"
 },
 "capabilities": "Data,Map,Query",
 "supportedQueryFormats": "JSON, AMF, geoJSON",
 "exportTilesAllowed": false,
 "datumTransformations": [
  {
   "geoTransforms": [
    {
     "wkt": "GEOGTRAN[\"S-JTSK_[JTSK03]_To_S-JTSK_UGKK_SR\",GEOGCS[\"S-JTSK_[JTSK03]\",DATUM[\"S-JTSK_[JTSK03]\",SPHEROID[\"Bessel_1841\",6377397.155,299.1528128]],PRIMEM[\"Greenwich\",0.0],UNIT[\"Degree\",0.0174532925199433]],GEOGCS[\"GCS_S_JTSK\",DATUM[\"D_S_JTSK\",SPHEROID[\"Bessel_1841\",6377397.155,299.1528128]],PRIMEM[\"Greenwich\",0.0],UNIT[\"Degree\",0.0174532925199433]],METHOD[\"NADCON\"],PARAMETER[\"Dataset_Slovakia_JTSK03_to_JTSK\",0.0]]",
     "transformForward": false,
     "name": "S-JTSK_[JTSK03]_To_S-JTSK_UGKK_SR"
    },
    {
     "wkt": "GEOGTRAN[\"S-JTSK_[JTSK03]_To_ETRS89_UGKK_SR\",GEOGCS[\"S-JTSK_[JTSK03]\",DATUM[\"S-JTSK_[JTSK03]\",SPHEROID[\"Bessel_1841\",6377397.155,299.1528128]],PRIMEM[\"Greenwich\",0.0],UNIT[\"Degree\",0.0174532925199433]],GEOGCS[\"GCS_ETRS_1989\",DATUM[\"D_ETRS_1989\",SPHEROID[\"GRS_1980\",6378137.0,298.257222101]],PRIMEM[\"Greenwich\",0.0],UNIT[\"Degree\",0.0174532925199433]],METHOD[\"Coordinate_Frame\"],PARAMETER[\"X_Axis_Translation\",485.021],PARAMETER[\"Y_Axis_Translation\",169.465],PARAMETER[\"Z_Axis_Translation\",483.839],PARAMETER[\"X_Axis_Rotation\",-7.786342],PARAMETER[\"Y_Axis_Rotation\",-4.397554],PARAMETER[\"Z_Axis_Rotation\",-4.102655],PARAMETER[\"Scale_Difference\",0.0]]",
     "transformForward": true,
     "name": "S-JTSK_[JTSK03]_To_ETRS89_UGKK_SR"
    }
   ]
  },
  {
   "geoTransforms": [
    {
     "wkt": "GEOGTRAN[\"S-JTSK_[JTSK03]_To_ETRS89_UGKK_SR\",GEOGCS[\"S-JTSK_[JTSK03]\",DATUM[\"S-JTSK_[JTSK03]\",SPHEROID[\"Bessel_1841\",6377397.155,299.1528128]],PRIMEM[\"Greenwich\",0.0],UNIT[\"Degree\",0.0174532925199433]],GEOGCS[\"GCS_ETRS_1989\",DATUM[\"D_ETRS_1989\",SPHEROID[\"GRS_1980\",6378137.0,298.257222101]],PRIMEM[\"Greenwich\",0.0],UNIT[\"Degree\",0.0174532925199433]],METHOD[\"Coordinate_Frame\"],PARAMETER[\"X_Axis_Translation\",485.021],PARAMETER[\"Y_Axis_Translation\",169.465],PARAMETER[\"Z_Axis_Translation\",483.839],PARAMETER[\"X_Axis_Rotation\",-7.786342],PARAMETER[\"Y_Axis_Rotation\",-4.397554],PARAMETER[\"Z_Axis_Rotation\",-4.102655],PARAMETER[\"Scale_Difference\",0.0]]",
     "transformForward": false,
     "name": "S-JTSK_[JTSK03]_To_ETRS89_UGKK_SR"
    },
    {
     "wkt": "GEOGTRAN[\"S-JTSK_[JTSK03]_To_S-JTSK_UGKK_SR\",GEOGCS[\"S-JTSK_[JTSK03]\",DATUM[\"S-JTSK_[JTSK03]\",SPHEROID[\"Bessel_1841\",6377397.155,299.1528128]],PRIMEM[\"Greenwich\",0.0],UNIT[\"Degree\",0.0174532925199433]],GEOGCS[\"GCS_S_JTSK\",DATUM[\"D_S_JTSK\",SPHEROID[\"Bessel_1841\",6377397.155,299.1528128]],PRIMEM[\"Greenwich\",0.0],UNIT[\"Degree\",0.0174532925199433]],METHOD[\"NADCON\"],PARAMETER[\"Dataset_Slovakia_JTSK03_to_JTSK\",0.0]]",
     "transformForward": true,
     "name": "S-JTSK_[JTSK03]_To_S-JTSK_UGKK_SR"
    }
   ]
  },
  {
   "geoTransforms": [
    {
     "wkt": "GEOGTRAN[\"S-JTSK_[JTSK03]_To_S-JTSK_UGKK_SR\",GEOGCS[\"S-JTSK_[JTSK03]\",DATUM[\"S-JTSK_[JTSK03]\",SPHEROID[\"Bessel_1841\",6377397.155,299.1528128]],PRIMEM[\"Greenwich\",0.0],UNIT[\"Degree\",0.0174532925199433]],GEOGCS[\"GCS_S_JTSK\",DATUM[\"D_S_JTSK\",SPHEROID[\"Bessel_1841\",6377397.155,299.1528128]],PRIMEM[\"Greenwich\",0.0],UNIT[\"Degree\",0.0174532925199433]],METHOD[\"NADCON\"],PARAMETER[\"Dataset_Slovakia_JTSK03_to_JTSK\",0.0]]",
     "transformForward": false,
     "name": "S-JTSK_[JTSK03]_To_S-JTSK_UGKK_SR"
    }
   ]
  },
  {
   "geoTransforms": [
    {
     "wkt": "GEOGTRAN[\"S-JTSK_[JTSK03]_To_S-JTSK_UGKK_SR\",GEOGCS[\"S-JTSK_[JTSK03]\",DATUM[\"S-JTSK_[JTSK03]\",SPHEROID[\"Bessel_1841\",6377397.155,299.1528128]],PRIMEM[\"Greenwich\",0.0],UNIT[\"Degree\",0.0174532925199433]],GEOGCS[\"GCS_S_JTSK\",DATUM[\"D_S_JTSK\",SPHEROID[\"Bessel_1841\",6377397.155,299.1528128]],PRIMEM[\"Greenwich\",0.0],UNIT[\"Degree\",0.0174532925199433]],METHOD[\"NADCON\"],PARAMETER[\"Dataset_Slovakia_JTSK03_to_JTSK\",0.0]]",
     "transformForward": true,
     "name": "S-JTSK_[JTSK03]_To_S-JTSK_UGKK_SR"
    }
   ]
  }
 ],
 "supportsDatumTransformation": true,
 "maxRecordCount": 1000,
 "maxImageHeight": 4096,
 "maxImageWidth": 4096,
 "supportedExtensions": "WCSServer, WMSServer"
}