{
 "currentVersion": 11.2,
 "cimVersion": "3.2.0",
 "serviceDescription": "CORINE Land Cover 2000 revidovaná vrstva ; https://rpi.gov.sk/metadata/dc136eaa-74e5-4a1e-be81-c1f6d870f243 ; https://corine.sazp.sk",
 "mapName": "Layers",
 "description": "",
 "copyrightText": "Slovenská agentúra životného prostredia",
 "supportsDynamicLayers": false,
 "layers": [
  {
   "id": 0,
   "name": "CLC_2000_revision",
   "parentLayerId": -1,
   "defaultVisibility": true,
   "subLayerIds": null,
   "minScale": 0,
   "maxScale": 0,
   "type": "Feature Layer",
   "geometryType": "esriGeometryPolygon",
   "supportsDynamicLegends": true
  }
 ],
 "tables": [],
 "spatialReference": {
  "wkid": 102067,
  "latestWkid": 5514,
  "xyTolerance": 0.001,
  "zTolerance": 0.001,
  "mTolerance": 0.001,
  "falseX": -33699800,
  "falseY": -33699800,
  "xyUnits": 1.3363876424698351E8,
  "falseZ": -100000,
  "zUnits": 10000,
  "falseM": -100000,
  "mUnits": 10000
 },
 "singleFusedMapCache": true,
 "tileInfo": {
  "rows": 256,
  "cols": 256,
  "dpi": 91,
  "format": "PNG",
  "compressionQuality": 0,
  "origin": {
   "x": -33699800,
   "y": 33699800
  },
  "spatialReference": {
   "wkid": 102067,
   "latestWkid": 5514,
   "xyTolerance": 0.001,
   "zTolerance": 0.001,
   "mTolerance": 0.001,
   "falseX": -33699800,
   "falseY": -33699800,
   "xyUnits": 1.3363876424698351E8,
   "falseZ": -100000,
   "zUnits": 10000,
   "falseM": -100000,
   "mUnits": 10000
  },
  "lods": [
   {
    "level": 0,
    "resolution": 1219.1550401580387,
    "scale": 4367830.187723
   },
   {
    "level": 1,
    "resolution": 609.577520079159,
    "scale": 2183915.093862
   },
   {
    "level": 2,
    "resolution": 304.7887656217291,
    "scale": 1091957.56693
   },
   {
    "level": 3,
    "resolution": 152.3943800199293,
    "scale": 545978.773466
   },
   {
    "level": 4,
    "resolution": 76.19719000968553,
    "scale": 272989.386732
   },
   {
    "level": 5,
    "resolution": 38.09867036763085,
    "scale": 136494.963366
   },
   {
    "level": 6,
    "resolution": 19.049297502421382,
    "scale": 68247.346683
   },
   {
    "level": 7,
    "resolution": 9.524648751350252,
    "scale": 34123.673342
   },
   {
    "level": 8,
    "resolution": 4.762324375675126,
    "scale": 17061.836671
   },
   {
    "level": 9,
    "resolution": 2.381162187977124,
    "scale": 8530.918336
   },
   {
    "level": 10,
    "resolution": 1.1905810937094403,
    "scale": 4265.459167
   },
   {
    "level": 11,
    "resolution": 0.595290546994281,
    "scale": 2132.729584
   },
   {
    "level": 12,
    "resolution": 0.2976452734971405,
    "scale": 1066.364792
   }
  ]
 },
 "storageInfo": {
  "storageFormat": "esriMapCacheStorageModeCompactV2",
  "packetSize": 128
 },
 "initialExtent": {
  "xmin": -608187.9603759208,
  "ymin": -1481708.8307509948,
  "xmax": -147812.03962407922,
  "ymax": -984291.1692490052,
  "spatialReference": {
   "wkid": 102067,
   "latestWkid": 5514,
   "xyTolerance": 0.001,
   "zTolerance": 0.001,
   "mTolerance": 0.001,
   "falseX": -33699800,
   "falseY": -33699800,
   "xyUnits": 1.3363876424698351E8,
   "falseZ": -100000,
   "zUnits": 10000,
   "falseM": -100000,
   "mUnits": 10000
  }
 },
 "fullExtent": {
  "xmin": -606000,
  "ymin": -1349000,
  "xmax": -150000,
  "ymax": -1117000,
  "spatialReference": {
   "wkid": 102067,
   "latestWkid": 5514,
   "xyTolerance": 0.001,
   "zTolerance": 0.001,
   "mTolerance": 0.001,
   "falseX": -33699800,
   "falseY": -33699800,
   "xyUnits": 1.3363876424698351E8,
   "falseZ": -100000,
   "zUnits": 10000,
   "falseM": -100000,
   "mUnits": 10000
  }
 },
 "datesInUnknownTimezone": false,
 "minScale": 5000000,
 "maxScale": 17000,
 "maxLOD": 8,
 "units": "esriMeters",
 "supportedImageFormatTypes": "PNG32,PNG24,PNG,JPG,DIB,TIFF,EMF,PS,PDF,GIF,SVG,SVGZ,BMP",
 "documentInfo": {
  "Title": "clc2000revision.aprx",
  "Author": "",
  "Comments": "",
  "Subject": "",
  "Category": "",
  "Version": "3.2.0",
  "AntialiasingMode": "None",
  "TextAntialiasingMode": "None",
  "Keywords": ""
 },
 "supportsQueryDomains": true,
 "capabilities": "Map,Query,Data",
 "supportedQueryFormats": "JSON, geoJSON, PBF",
 "exportTilesAllowed": false,
 "referenceScale": 0.0,
 "datumTransformations": [
  {
   "geoTransforms": [
    {
     "wkid": 1622,
     "latestWkid": 1622,
     "transformForward": true,
     "name": "S_JTSK_To_ETRS_1989_1"
    }
   ]
  },
  {
   "geoTransforms": [
    {
     "wkid": 1622,
     "latestWkid": 1622,
     "transformForward": false,
     "name": "S_JTSK_To_ETRS_1989_1"
    }
   ]
  },
  {
   "geoTransforms": [
    {
     "wkid": 1623,
     "latestWkid": 1623,
     "transformForward": true,
     "name": "S_JTSK_To_WGS_1984_1"
    }
   ]
  },
  {
   "geoTransforms": [
    {
     "wkid": 1623,
     "latestWkid": 1623,
     "transformForward": false,
     "name": "S_JTSK_To_WGS_1984_1"
    }
   ]
  }
 ],
 "supportsDatumTransformation": true,
 "archivingInfo": {
  "supportsHistoricMoment": false
 },
 "supportsClipping": true,
 "supportsSpatialFilter": true,
 "supportsTimeRelation": true,
 "supportsQueryDataElements": true,
 "mapUnits": {
  "uwkid": 9001
 },
 "maxRecordCount": 2000,
 "maxImageHeight": 4096,
 "maxImageWidth": 4096,
 "supportedExtensions": "WFSServer, WMSServer",
 "resampling": false
}
