{
"currentVersion": 10.7,
"serviceDescription": "CORINE Land Cover Change 2000-2006. Vrstva obsahuje zmeny (zmenové polygóny) krajinnej pokrývky za obdobie 2000-2006.
\nBližšie informácie na:
\nhttp://corine.sazp.sk<\/a>
\nhttps://rpi.gov.sk/client/map/detail/?rid=https://data.gov.sk/set/rpi/gmd/00626031/4E85AEB82B1F37B7E0530110000A8D4C<\/a>",
"mapName": "Layers",
"description": "",
"copyrightText": "",
"supportsDynamicLayers": false,
"layers": [
{
"id": 0,
"name": "CHA_2000_2006",
"parentLayerId": -1,
"defaultVisibility": true,
"subLayerIds": null,
"minScale": 0,
"maxScale": 0,
"type": "Feature Layer",
"geometryType": "esriGeometryPolygon"
}
],
"tables": [],
"spatialReference": {
"wkid": 102067,
"latestWkid": 5514
},
"singleFusedMapCache": true,
"tileInfo": {
"rows": 256,
"cols": 256,
"dpi": 96,
"format": "PNG24",
"compressionQuality": 0,
"origin": {
"x": -33699800,
"y": 33699800
},
"spatialReference": {
"wkid": 102067,
"latestWkid": 5514
},
"lods": [
{
"level": 0,
"resolution": 1219.155040158036,
"scale": 4607820.8573781
},
{
"level": 1,
"resolution": 609.5775200791583,
"scale": 2303910.42868958
},
{
"level": 2,
"resolution": 304.7887656217298,
"scale": 1151955.23544264
},
{
"level": 3,
"resolution": 152.39438001992926,
"scale": 575977.607172923
},
{
"level": 4,
"resolution": 76.19719000968561,
"scale": 287988.803585407
},
{
"level": 5,
"resolution": 38.09867036763082,
"scale": 143994.686627868
},
{
"level": 6,
"resolution": 19.049297502421393,
"scale": 71997.2008963517
},
{
"level": 7,
"resolution": 9.524648751350224,
"scale": 35998.6004487032
},
{
"level": 8,
"resolution": 4.762324375675112,
"scale": 17999.3002243516
},
{
"level": 9,
"resolution": 2.3811621879771243,
"scale": 8999.6501127033
},
{
"level": 10,
"resolution": 1.1905810937094368,
"scale": 4499.82505529669
},
{
"level": 11,
"resolution": 0.5952905469942824,
"scale": 2249.91252817583
},
{
"level": 12,
"resolution": 0.2976452734971399,
"scale": 1124.95626408791
}
]
},
"initialExtent": {
"xmin": -626444.2468884939,
"ymin": -1276656.3373126746,
"xmax": -129555.75311150626,
"ymax": -1071233.426466853,
"spatialReference": {
"wkid": 102067,
"latestWkid": 5514
}
},
"fullExtent": {
"xmin": -606000,
"ymin": -1349000,
"xmax": -150000,
"ymax": -1117000,
"spatialReference": {
"wkid": 102067,
"latestWkid": 5514
}
},
"minScale": 4607820.8573781,
"maxScale": 1124.95626408791,
"units": "esriMeters",
"supportedImageFormatTypes": "PNG32,PNG24,PNG,JPG,DIB,TIFF,EMF,PS,PDF,GIF,SVG,SVGZ,BMP",
"documentInfo": {
"Title": "",
"Author": "",
"Comments": "",
"Subject": "",
"Category": "",
"AntialiasingMode": "None",
"TextAntialiasingMode": "None",
"Keywords": "-"
},
"capabilities": "Data,Map,Query",
"supportedQueryFormats": "JSON, AMF, geoJSON",
"exportTilesAllowed": false,
"datumTransformations": [
{
"geoTransforms": [
{
"wkid": 1622,
"latestWkid": 1622,
"transformForward": true,
"name": "S_JTSK_To_ETRS_1989_1"
}
]
},
{
"geoTransforms": [
{
"wkid": 1622,
"latestWkid": 1622,
"transformForward": false,
"name": "S_JTSK_To_ETRS_1989_1"
}
]
},
{
"geoTransforms": [
{
"wkid": 1623,
"latestWkid": 1623,
"transformForward": true,
"name": "S_JTSK_To_WGS_1984_1"
}
]
},
{
"geoTransforms": [
{
"wkid": 1623,
"latestWkid": 1623,
"transformForward": false,
"name": "S_JTSK_To_WGS_1984_1"
}
]
}
],
"supportsDatumTransformation": true,
"maxRecordCount": 1000,
"maxImageHeight": 4096,
"maxImageWidth": 4096,
"supportedExtensions": "WFSServer, WMSServer"
}